BEGIN:VCALENDAR
VERSION:2.0
PRODID:-//ChamberMaster//Event Calendar 2.0//EN
METHOD:PUBLISH
X-PUBLISHED-TTL:P3D
REFRESH-INTERVAL:P3D
CALSCALE:GREGORIAN
BEGIN:VEVENT
DTSTART:20190628T230000Z
DTEND:20190630T180000Z
X-MICROSOFT-CDO-ALLDAYEVENT:FALSE
SUMMARY:Disney's Winnie the Pooh KIDS
DESCRIPTION:Performed by WYART Production Students. Welcome to the Hundred Acre Wood\, where Winnie the Pooh is once again in search of honey. Along the way\, he meets his pals\, Tigger\, Piglet\, Rabbit and Owl\, but soon discovers that Christopher Robin has been captured by the mysterious Backson! As they prepare for a rescue operation\, the animals learn about teamwork\, friendship and\, of course  sharing snacks.
X-ALT-DESC;FMTTYPE=text/html:Performed by WYART Production Students. Welcome to the Hundred Acre Wood\, where Winnie the Pooh is once again in search of honey. Along the way\, he meets his pals\, Tigger\, Piglet\, Rabbit and Owl\, but soon discovers that Christopher Robin has been captured by the mysterious Backson! As they prepare for a rescue operation\, the animals learn about teamwork\, friendship and\, of course&hellip\; sharing snacks.
LOCATION:Larry W. and Dawn Holt Anderson Children's Theatre 100 Price Road Newark\, OH 43055
UID:e.180.12684
SEQUENCE:3
DTSTAMP:20260420T083750Z
URL:http://business.granvilleoh.com/events/details/disney-s-winnie-the-pooh-kids-12684
END:VEVENT

END:VCALENDAR
