BEGIN:VCALENDAR
VERSION:2.0
PRODID:-//ChamberMaster//Event Calendar 2.0//EN
METHOD:PUBLISH
X-PUBLISHED-TTL:P3D
REFRESH-INTERVAL:P3D
CALSCALE:GREGORIAN
BEGIN:VEVENT
DTSTART:20190223T150000Z
DTEND:20190223T170000Z
X-MICROSOFT-CDO-ALLDAYEVENT:FALSE
SUMMARY:‘Documenting Our Lives With Video’ workshop led by Doug Swift
DESCRIPTION:Denison University's Center for Narrative Journalism presents "Documenting Our Lives With Video" workshop led by Doug Swift. This workshop is part of a series titled "Tell Better Stories" that is supported by the Mellon grant.\nMost of us carry movie cameras in our pockets. With a little training\, we can put these smart phone cameras to work\, not only recording important parts of our lives\, but using this intention to feel more connected to the things that matter to us. We can all become storytellers. For many folks\, this means learning to take good home movies. For other folks\, it means documenting the things in our communities that are unfair or unjust\, becoming citizen journalists. Sometimes the family stories and public engagement are entwined.  Together we'll learn some basic principles of storytelling with our phone-video cameras including composition\, understanding light\, putting our subject at ease\, and use of interviews. When you leave\, you'll be ready to start capturing important and life-changing video. \n\nSwift is a documentary filmmaker and creative director of Wild Iris Video. He's placed short documentary films at CET TV and 100 Days in Appalachia and teaches English classes at Denison University.\n\nRegistration is required.\n\nTo register\, email Beth Lossing at lossingb@denison.edu.
X-ALT-DESC;FMTTYPE=text/html:<span style="background-color:transparent\; color:rgb(0\, 0\, 0)\; font-family:arial\; font-size:11pt">Denison University&rsquo\;s Center for Narrative Journalism presents &ldquo\;Documenting Our Lives With Video&rdquo\; workshop led by Doug Swift.&nbsp\;This workshop is part of a series titled &ldquo\;Tell Better Stories&rdquo\; that is supported by the Mellon grant.</span>\n<p><span style="background-color:transparent\; color:rgb(0\, 0\, 0)\; font-family:arial\; font-size:11pt">Most of us carry movie cameras in our pockets. With a little training\, we can put these smart phone cameras to work\, not only recording important parts of our lives\, but using this intention to feel more connected to the things that matter to us. We can all become storytellers. For many folks\, this means learning to take good home movies. For other folks\, it means documenting the things in our communities that are unfair or unjust\, becoming citizen journalists. Sometimes the family stories and public engagement are entwined. &nbsp\;Together we&rsquo\;ll learn some basic principles of storytelling with our phone-video cameras including composition\, understanding light\, putting our subject at ease\, and use of interviews. When you leave\, you&rsquo\;ll be ready to start capturing important and life-changing video. </span></p>\n\n<p><span style="background-color:transparent\; color:rgb(0\, 0\, 0)\; font-family:arial\; font-size:11pt">Swift is a documentary filmmaker and creative director of Wild Iris Video. He&rsquo\;s placed short documentary films at CET TV and 100 Days in Appalachia and teaches English classes at Denison University.</span></p>\n\n<p><span style="background-color:transparent\; color:rgb(0\, 0\, 0)\; font-family:arial\; font-size:11pt">Registration is required.</span><br />\n<span style="background-color:transparent\; color:rgb(0\, 0\, 0)\; font-family:arial\; font-size:11pt">To register\, email Beth Lossing at lossingb@denison.edu.</span></p>\n\n<div>&nbsp\;</div>\n
LOCATION:NEWORK Space 14 N. Park Place Newark\, OH 43055
UID:e.180.12443
SEQUENCE:3
DTSTAMP:20260420T022629Z
URL:http://business.granvilleoh.com/events/details/documenting-our-lives-with-video-workshop-led-by-doug-swift-12443
END:VEVENT

END:VCALENDAR
