BEGIN:VCALENDAR
VERSION:2.0
PRODID:-//ChamberMaster//Event Calendar 2.0//EN
METHOD:PUBLISH
X-PUBLISHED-TTL:P3D
REFRESH-INTERVAL:P3D
CALSCALE:GREGORIAN
BEGIN:VEVENT
DTSTART:20190304T180000Z
DTEND:20190304T200000Z
X-MICROSOFT-CDO-ALLDAYEVENT:FALSE
SUMMARY:Draw the Line: Ink Printing
DESCRIPTION:Try your hand at this Warhol-inspired art project using a calligraphy pen and watercolor paint. Teens in grades 7-12 welcome!
X-ALT-DESC;FMTTYPE=text/html:Try your hand at this Warhol-inspired art project using a calligraphy pen and watercolor paint. Teens in grades 7-12 welcome!
LOCATION:Granville Public Library
UID:e.180.12496
SEQUENCE:3
DTSTAMP:20260420T034829Z
URL:http://business.granvilleoh.com/events/details/draw-the-line-ink-printing-12496
END:VEVENT

END:VCALENDAR
