BEGIN:VCALENDAR
VERSION:2.0
PRODID:-//ChamberMaster//Event Calendar 2.0//EN
METHOD:PUBLISH
X-PUBLISHED-TTL:P3D
REFRESH-INTERVAL:P3D
CALSCALE:GREGORIAN
BEGIN:VEVENT
DTSTART:20190404T200000Z
DTEND:20190404T204500Z
X-MICROSOFT-CDO-ALLDAYEVENT:FALSE
SUMMARY:Drawing Club
DESCRIPTION:Each meeting will feature a different drawing activity and time to share your work with other artists. Meetings will be held on the first Thursday of the month. For grades 4-6.
X-ALT-DESC;FMTTYPE=text/html:Each meeting will feature a different drawing activity and time to share your work with other artists. Meetings will be held on the first Thursday of the month. For grades 4-6.
LOCATION:Granville Public Library
UID:e.180.12543
SEQUENCE:3
DTSTAMP:20260420T050703Z
URL:http://business.granvilleoh.com/events/details/drawing-club-04-04-2019-12543
END:VEVENT

END:VCALENDAR
