BEGIN:VCALENDAR
VERSION:2.0
PRODID:-//ChamberMaster//Event Calendar 2.0//EN
METHOD:PUBLISH
X-PUBLISHED-TTL:P3D
REFRESH-INTERVAL:P3D
CALSCALE:GREGORIAN
BEGIN:VEVENT
DTSTART:20190606T200000Z
DTEND:20190606T204500Z
X-MICROSOFT-CDO-ALLDAYEVENT:FALSE
SUMMARY:Drawing Club
DESCRIPTION:We'll start with a short warm-up exercise. The rest of the time is yours to draw what you want. Drawing materials and snacks supplied. Rising 4-6 graders welcome!
X-ALT-DESC;FMTTYPE=text/html:We&#39\;ll start with a short warm-up exercise. The rest of the time is yours to draw what you want. Drawing materials and snacks supplied. Rising 4-6 graders welcome!
LOCATION:Granville Public Library
UID:e.180.12648
SEQUENCE:3
DTSTAMP:20260420T081740Z
URL:http://business.granvilleoh.com/events/details/drawing-club-06-06-2019-12648
END:VEVENT

END:VCALENDAR
