BEGIN:VCALENDAR
VERSION:2.0
PRODID:-//ChamberMaster//Event Calendar 2.0//EN
METHOD:PUBLISH
X-PUBLISHED-TTL:P3D
REFRESH-INTERVAL:P3D
CALSCALE:GREGORIAN
BEGIN:VEVENT
DTSTART:20190801T200000Z
DTEND:20190801T210000Z
X-MICROSOFT-CDO-ALLDAYEVENT:FALSE
SUMMARY:Drawing Club
DESCRIPTION:Hang out and draw. We'll start with a short warm-up exercise. The rest of the time is yours to draw what you want. Drawing materials and snacks supplied. Rising Grades 4 to 6
X-ALT-DESC;FMTTYPE=text/html:Hang out and draw. We&#39\;ll start with a short warm-up exercise. The rest of the time is yours to draw what you want. Drawing materials and snacks supplied. Rising Grades 4 to 6
LOCATION:Granville Public Library
UID:e.180.12747
SEQUENCE:3
DTSTAMP:20260422T102702Z
URL:http://business.granvilleoh.com/events/details/drawing-club-08-01-2019-12747
END:VEVENT

END:VCALENDAR
