BEGIN:VCALENDAR
VERSION:2.0
PRODID:-//ChamberMaster//Event Calendar 2.0//EN
METHOD:PUBLISH
X-PUBLISHED-TTL:P3D
REFRESH-INTERVAL:P3D
CALSCALE:GREGORIAN
BEGIN:VEVENT
DTSTART:20191003T200000Z
DTEND:20191003T210000Z
X-MICROSOFT-CDO-ALLDAYEVENT:FALSE
SUMMARY:Drawing Club
DESCRIPTION:Hang out and draw. We'll start with a short warm-up exercise. Drawing materials and snacks supplied. For kids in grades 4 to 6
X-ALT-DESC;FMTTYPE=text/html:Hang out and draw. We&#39\;ll start with a short warm-up exercise. Drawing materials and snacks supplied. For kids in grades 4 to 6
LOCATION:Granville Public Library
UID:e.180.12798
SEQUENCE:3
DTSTAMP:20260422T144421Z
URL:http://business.granvilleoh.com/events/details/drawing-club-10-03-2019-12798
END:VEVENT

END:VCALENDAR
