BEGIN:VCALENDAR
VERSION:2.0
PRODID:-//ChamberMaster//Event Calendar 2.0//EN
METHOD:PUBLISH
X-PUBLISHED-TTL:P3D
REFRESH-INTERVAL:P3D
CALSCALE:GREGORIAN
BEGIN:VEVENT
DTSTART:20191205T210000Z
DTEND:20191205T220000Z
X-MICROSOFT-CDO-ALLDAYEVENT:FALSE
SUMMARY:Drawing Club
DESCRIPTION:Hang out and draw. Drawing materials and snacks supplied. For grades 4-6
X-ALT-DESC;FMTTYPE=text/html:Hang out and draw. Drawing materials and snacks supplied. For grades 4-6
LOCATION:Granville Public Library
UID:e.180.13951
SEQUENCE:3
DTSTAMP:20260422T161115Z
URL:http://business.granvilleoh.com/events/details/drawing-club-12-05-2019-13951
END:VEVENT

END:VCALENDAR
