BEGIN:VCALENDAR
VERSION:2.0
PRODID:-//ChamberMaster//Event Calendar 2.0//EN
METHOD:PUBLISH
X-PUBLISHED-TTL:P3D
REFRESH-INTERVAL:P3D
CALSCALE:GREGORIAN
BEGIN:VEVENT
DTSTART:20180604T180000Z
DTEND:20180604T190000Z
X-MICROSOFT-CDO-ALLDAYEVENT:FALSE
SUMMARY:Drummunity
DESCRIPTION:Libraries Rock this summer! Help kick-off this summer's library program by joining Lori Fithian as she leads a fun and energizing drum circle\, transforming our community into a "drummunity." This event will be held in the Granville Elementary School Multi-purpose room and is sponsored by the Granville Public Library. All ages welcome!
X-ALT-DESC;FMTTYPE=text/html:Libraries Rock this summer! Help kick-off this summer&#39\;s library program by joining Lori Fithian as she leads a fun and energizing drum circle\, transforming our community into a &quot\;drummunity.&quot\; This event will be held in the Granville Elementary School Multi-purpose room and is sponsored by the Granville Public Library. All ages welcome!
LOCATION:Granville Elementary School Multi-purpose Room brought to you by the Granville Public Library.
UID:e.180.11982
SEQUENCE:3
DTSTAMP:20260419T152908Z
URL:http://business.granvilleoh.com/events/details/drummunity-11982
END:VEVENT

END:VCALENDAR
