BEGIN:VCALENDAR
VERSION:2.0
PRODID:-//ChamberMaster//Event Calendar 2.0//EN
METHOD:PUBLISH
X-PUBLISHED-TTL:P3D
REFRESH-INTERVAL:P3D
CALSCALE:GREGORIAN
BEGIN:VEVENT
DTSTART:20181215T190000Z
DTEND:20181215T200000Z
X-MICROSOFT-CDO-ALLDAYEVENT:FALSE
SUMMARY:Duke Otherwise is Ebenezer Duke
DESCRIPTION:Outrageous fun with hilarious songs\, audience participation\, and dancing. All ages Performance to be held on the second floor in the teen area.
X-ALT-DESC;FMTTYPE=text/html:Outrageous fun with hilarious songs\, audience participation\, and dancing. All ages Performance to be held on the second floor in the teen area.
LOCATION:Granville Public Library
UID:e.180.12236
SEQUENCE:3
DTSTAMP:20260419T232907Z
URL:http://business.granvilleoh.com/events/details/duke-otherwise-is-ebenezer-duke-12236
END:VEVENT

END:VCALENDAR
