BEGIN:VCALENDAR
VERSION:2.0
PRODID:-//ChamberMaster//Event Calendar 2.0//EN
METHOD:PUBLISH
X-PUBLISHED-TTL:P3D
REFRESH-INTERVAL:P3D
CALSCALE:GREGORIAN
BEGIN:VEVENT
DTSTART:20180619T220000Z
DTEND:20180620T000000Z
X-MICROSOFT-CDO-ALLDAYEVENT:FALSE
SUMMARY:Dungeons and Dragons
DESCRIPTION:Join us each week during the summer library program for an evening of Dungeons and Dragons. Just learning? You are welcome to get in on the fun. Rising seventh through twelfth grade welcome!
X-ALT-DESC;FMTTYPE=text/html:Join us each week during the summer library program for an evening of Dungeons and Dragons. Just learning? You are welcome to get in on the fun. Rising seventh through twelfth grade welcome!
LOCATION:Granville Public Library
UID:e.180.12005
SEQUENCE:3
DTSTAMP:20260419T153017Z
URL:http://business.granvilleoh.com/events/details/dungeons-and-dragons-06-19-2018-12005
END:VEVENT

END:VCALENDAR
