BEGIN:VCALENDAR
VERSION:2.0
PRODID:-//ChamberMaster//Event Calendar 2.0//EN
METHOD:PUBLISH
X-PUBLISHED-TTL:P3D
REFRESH-INTERVAL:P3D
CALSCALE:GREGORIAN
BEGIN:VEVENT
DTSTART:20180724T220000Z
DTEND:20180725T000000Z
X-MICROSOFT-CDO-ALLDAYEVENT:FALSE
SUMMARY:Dungeons and Dragons
DESCRIPTION:Join us each week during the summer library program for an evening of Dungeons and Dragons. Just learning? You are welcome to get in on the fun. Rising seventh through twelfth grade welcome! This our last session for summer!
X-ALT-DESC;FMTTYPE=text/html:Join us each week during the summer library program for an evening of Dungeons and Dragons. Just learning? You are welcome to get in on the fun. Rising seventh through twelfth grade welcome! This our last session for summer!
LOCATION:Granville Public Library
UID:e.180.12065
SEQUENCE:3
DTSTAMP:20260419T170852Z
URL:http://business.granvilleoh.com/events/details/dungeons-and-dragons-07-24-2018-12065
END:VEVENT

END:VCALENDAR
