BEGIN:VCALENDAR
VERSION:2.0
PRODID:-//ChamberMaster//Event Calendar 2.0//EN
METHOD:PUBLISH
X-PUBLISHED-TTL:P3D
REFRESH-INTERVAL:P3D
CALSCALE:GREGORIAN
BEGIN:VEVENT
DTSTART:20190610T220000Z
DTEND:20190611T000000Z
X-MICROSOFT-CDO-ALLDAYEVENT:FALSE
SUMMARY:Dungeons & Dragons
DESCRIPTION:Rising 7th - 12th graders\, join us for a Dungeons and Dragons adventure each week. Whether you are just learning\, or know the game well we'll have a group for you to join. Roll the dice\, take a chance\, have some fun! Session runs through July 22.
X-ALT-DESC;FMTTYPE=text/html:Rising 7th - 12th graders\, join us for a Dungeons and Dragons adventure each week. Whether you are just learning\, or know the game well we&#39\;ll have a group for you to join. Roll the dice\, take a chance\, have some fun! Session runs through July 22.
LOCATION:Granville Public Library
UID:e.180.12660
SEQUENCE:3
DTSTAMP:20260420T080831Z
URL:http://business.granvilleoh.com/events/details/dungeons-dragons-06-10-2019-12660
END:VEVENT

END:VCALENDAR
