BEGIN:VCALENDAR
VERSION:2.0
PRODID:-//ChamberMaster//Event Calendar 2.0//EN
METHOD:PUBLISH
X-PUBLISHED-TTL:P3D
REFRESH-INTERVAL:P3D
CALSCALE:GREGORIAN
BEGIN:VEVENT
DTSTART:20180921T213000Z
DTEND:20180921T233000Z
X-MICROSOFT-CDO-ALLDAYEVENT:FALSE
SUMMARY:Dungeons & Dragons
DESCRIPTION:Join us for a monthly D&D adventure. Just learning? You are welcome to get in on the fun. For grades 7-12.
X-ALT-DESC;FMTTYPE=text/html:Join us for a monthly D&amp\;D adventure. Just learning? You are welcome to get in on the fun. For grades 7-12.
LOCATION:Granville Public Library
UID:e.180.12113
SEQUENCE:3
DTSTAMP:20260419T193232Z
URL:http://business.granvilleoh.com/events/details/dungeons-dragons-09-21-2018-12113
END:VEVENT

END:VCALENDAR
