BEGIN:VCALENDAR
VERSION:2.0
PRODID:-//ChamberMaster//Event Calendar 2.0//EN
METHOD:PUBLISH
X-PUBLISHED-TTL:P3D
REFRESH-INTERVAL:P3D
CALSCALE:GREGORIAN
BEGIN:VEVENT
DTSTART:20181116T223000Z
DTEND:20181117T003000Z
X-MICROSOFT-CDO-ALLDAYEVENT:FALSE
SUMMARY:Dungeons & Dragons
DESCRIPTION:Join us for a monthly D&D adventure. Just learning? You are welcome to get in on the fun! Grades 7-12.
X-ALT-DESC;FMTTYPE=text/html:Join us for a monthly D&amp\;D adventure. Just learning? You are welcome to get in on the fun! Grades 7-12.
LOCATION:Granville Public Library
UID:e.180.12190
SEQUENCE:3
DTSTAMP:20260419T234235Z
URL:http://business.granvilleoh.com/events/details/dungeons-dragons-11-16-2018-12190
END:VEVENT

END:VCALENDAR
