BEGIN:VCALENDAR
VERSION:2.0
PRODID:-//ChamberMaster//Event Calendar 2.0//EN
METHOD:PUBLISH
X-PUBLISHED-TTL:P3D
REFRESH-INTERVAL:P3D
CALSCALE:GREGORIAN
BEGIN:VEVENT
DTSTART:20180605T220000Z
DTEND:20180606T000000Z
X-MICROSOFT-CDO-ALLDAYEVENT:FALSE
SUMMARY:Dungeons & Dragons
DESCRIPTION:Join us each week during the summer library program for an evening of Dungeons and Dragons. Just learning? You are welcome to get in on the fun. Rising 7th through 12th grade students welcome!
X-ALT-DESC;FMTTYPE=text/html:Join us each week during the summer library program for an evening of Dungeons and Dragons. Just learning? You are welcome to get in on the fun. Rising 7th through 12th grade students welcome!
LOCATION:Granville Public Library
UID:e.180.11984
SEQUENCE:3
DTSTAMP:20260419T152917Z
URL:http://business.granvilleoh.com/events/details/dungeons-dragons-11984
END:VEVENT

END:VCALENDAR
