BEGIN:VCALENDAR
VERSION:2.0
PRODID:-//ChamberMaster//Event Calendar 2.0//EN
METHOD:PUBLISH
X-PUBLISHED-TTL:P3D
REFRESH-INTERVAL:P3D
CALSCALE:GREGORIAN
BEGIN:VEVENT
DTSTART:20191227T190000Z
DTEND:20191227T210000Z
X-MICROSOFT-CDO-ALLDAYEVENT:FALSE
SUMMARY:Dungeons & Dragons
DESCRIPTION:Teens in 7-12 grade are welcome to join us for an afternoon of dungeons and dragons. Come prepared with your completed character. Snacks provided!
X-ALT-DESC;FMTTYPE=text/html:Teens in 7-12 grade are welcome to join us for an afternoon of dungeons and dragons. Come prepared with your completed character. Snacks provided!
LOCATION:Granville Public Library
UID:e.180.13989
SEQUENCE:3
DTSTAMP:20260422T160907Z
URL:http://business.granvilleoh.com/events/details/dungeons-dragons-12-27-2019-13989
END:VEVENT

END:VCALENDAR
