BEGIN:VCALENDAR
VERSION:2.0
PRODID:-//ChamberMaster//Event Calendar 2.0//EN
METHOD:PUBLISH
X-PUBLISHED-TTL:P3D
REFRESH-INTERVAL:P3D
CALSCALE:GREGORIAN
BEGIN:VEVENT
DTSTART:20191220T000000Z
DTEND:20191220T020000Z
X-MICROSOFT-CDO-ALLDAYEVENT:FALSE
SUMMARY:Embroidery Hoop Ornament
DESCRIPTION:Learn basic embroidery stitches with local artist Markie Layne and then use your new skills to craft a mini embroidery hoop holiday tree ornament.   All supplies provided.  Register at granvillelibrary.org/calendar
X-ALT-DESC;FMTTYPE=text/html:Learn basic embroidery stitches with local artist Markie Layne and then use your new skills to craft a mini embroidery hoop holiday tree ornament.   All supplies provided.  Register at granvillelibrary.org/calendar
LOCATION:Granville Public Library
UID:e.180.13987
SEQUENCE:3
DTSTAMP:20260422T173215Z
URL:http://business.granvilleoh.com/events/details/embroidery-hoop-ornament-13987
END:VEVENT

END:VCALENDAR
