BEGIN:VCALENDAR
VERSION:2.0
PRODID:-//ChamberMaster//Event Calendar 2.0//EN
METHOD:PUBLISH
X-PUBLISHED-TTL:P3D
REFRESH-INTERVAL:P3D
CALSCALE:GREGORIAN
BEGIN:VEVENT
DTSTART:20180920T230000Z
DTEND:20180921T003000Z
X-MICROSOFT-CDO-ALLDAYEVENT:FALSE
SUMMARY:'Empowering the next generation of reproducible open science'
DESCRIPTION:Denison University welcomes Karthik Ram presenting 'Empowering the next generation of reproducible open science.'\n\n\n\nRam is a senior data scientist at the Berkeley Institute for Data Science at UC Berkeley and a co-founder of the rOpenSci project. Karthik is also a senior PI at the Berkeley Initiative for Global Change Biology.
X-ALT-DESC;FMTTYPE=text/html:Denison University welcomes Karthik Ram presenting &#39\;Empowering the next generation of reproducible open science.&#39\;<br />\n<br />\nRam is a senior data scientist at the Berkeley Institute for Data Science at UC Berkeley and a co-founder of the rOpenSci project. Karthik is also a senior PI at the Berkeley Initiative for Global Change Biology.
LOCATION:Denison University Herrick Hall 500 West Loop
UID:e.180.12125
SEQUENCE:3
DTSTAMP:20260419T193510Z
URL:http://business.granvilleoh.com/events/details/empowering-the-next-generation-of-reproducible-open-science-12125
END:VEVENT

END:VCALENDAR
