BEGIN:VCALENDAR
VERSION:2.0
PRODID:-//ChamberMaster//Event Calendar 2.0//EN
METHOD:PUBLISH
X-PUBLISHED-TTL:P3D
REFRESH-INTERVAL:P3D
CALSCALE:GREGORIAN
BEGIN:VEVENT
DTSTART:20180428T180000Z
DTEND:20180428T190000Z
X-MICROSOFT-CDO-ALLDAYEVENT:FALSE
SUMMARY:Escape Room
DESCRIPTION:How quickly can your group solve the puzzles and escape? Group assignments given upon arrival. For grades 3-6
X-ALT-DESC;FMTTYPE=text/html:How quickly can your group solve the puzzles and escape? Group assignments given upon arrival. For grades 3-6
LOCATION:Granville Public Library
UID:e.180.11865
SEQUENCE:3
DTSTAMP:20260421T100636Z
URL:http://business.granvilleoh.com/events/details/escape-room-11865
END:VEVENT

END:VCALENDAR
