BEGIN:VCALENDAR
VERSION:2.0
PRODID:-//ChamberMaster//Event Calendar 2.0//EN
METHOD:PUBLISH
X-PUBLISHED-TTL:P3D
REFRESH-INTERVAL:P3D
CALSCALE:GREGORIAN
BEGIN:VEVENT
DTSTART:20181019T180000Z
DTEND:20181019T210000Z
X-MICROSOFT-CDO-ALLDAYEVENT:FALSE
SUMMARY:Escape Room: Haunted House Edition
DESCRIPTION:Can you escape the things that go bump in the night? Call the Children's Department (740-587-0196\, ext. 3) to sign up your team for a 15-minute block of time. We can assign you to a team if you don't have one. Registration required. Grades 3-6 welcome!
X-ALT-DESC;FMTTYPE=text/html:Can you escape the things that go bump in the night? Call the Children&#39\;s Department (740-587-0196\, ext. 3) to sign up your team for a 15-minute block of time. We can assign you to a team if you don&#39\;t have one. Registration required. Grades 3-6 welcome!
LOCATION:Granville Public Library
UID:e.180.12137
SEQUENCE:3
DTSTAMP:20260419T211054Z
URL:http://business.granvilleoh.com/events/details/escape-room-haunted-house-edition-12137
END:VEVENT

END:VCALENDAR
