BEGIN:VCALENDAR
VERSION:2.0
PRODID:-//ChamberMaster//Event Calendar 2.0//EN
METHOD:PUBLISH
X-PUBLISHED-TTL:P3D
REFRESH-INTERVAL:P3D
CALSCALE:GREGORIAN
BEGIN:VEVENT
DTSTART:20190719T170000Z
DTEND:20190719T200000Z
X-MICROSOFT-CDO-ALLDAYEVENT:FALSE
SUMMARY:Escape Room: Race to the Moon Edition
DESCRIPTION:Can you escape orbit and achieve a successful lunar landing? Sign up your team for a 15-minute block of time. We can assign you to a team if you don't have one. Rising Grades 3 to 6 (Registration required) at www.granvillelibrary.org/calendar
X-ALT-DESC;FMTTYPE=text/html:Can you escape orbit and achieve a successful lunar landing? Sign up your team for a 15-minute block of time. We can assign you to a team if you don&#39\;t have one. Rising Grades 3 to 6 (Registration required) at www.granvillelibrary.org/calendar
LOCATION:Granville Public Library
UID:e.180.12729
SEQUENCE:3
DTSTAMP:20260422T102852Z
URL:http://business.granvilleoh.com/events/details/escape-room-race-to-the-moon-edition-12729
END:VEVENT

END:VCALENDAR
