BEGIN:VCALENDAR
VERSION:2.0
PRODID:-//ChamberMaster//Event Calendar 2.0//EN
METHOD:PUBLISH
X-PUBLISHED-TTL:P3D
REFRESH-INTERVAL:P3D
CALSCALE:GREGORIAN
BEGIN:VEVENT
DTSTART:20191018T170000Z
DTEND:20191018T210000Z
X-MICROSOFT-CDO-ALLDAYEVENT:FALSE
SUMMARY:Escape Room: Spine Chiller Edition
DESCRIPTION:Can you escape the things that go bump in the night? Call the Children's Department at 740-587-0196 ext. 113 to sign your team up for a 20-minute block of time or register on-line at granvillelibrary.org/calendar. We can assign you a team if you don't have one.
X-ALT-DESC;FMTTYPE=text/html:Can you escape the things that go bump in the night? Call the Children&#39\;s Department at 740-587-0196 ext. 113 to sign your team up for a 20-minute block of time or register on-line at granvillelibrary.org/calendar. We can assign you a team if you don&#39\;t have one.
LOCATION:Granville Public Library
UID:e.180.12855
SEQUENCE:3
DTSTAMP:20260422T131524Z
URL:http://business.granvilleoh.com/events/details/escape-room-spine-chiller-edition-12855
END:VEVENT

END:VCALENDAR
