BEGIN:VCALENDAR
VERSION:2.0
PRODID:-//ChamberMaster//Event Calendar 2.0//EN
METHOD:PUBLISH
X-PUBLISHED-TTL:P3D
REFRESH-INTERVAL:P3D
CALSCALE:GREGORIAN
BEGIN:VEVENT
DTSTART:20191017T000000Z
DTEND:20191017T013000Z
X-MICROSOFT-CDO-ALLDAYEVENT:FALSE
SUMMARY:Exclusive live performance of ‘BoJack Horseman’ at Denison University
DESCRIPTION:The Denison University Department of Theatre celebrates its new home in the Michael D. Eisner Center for the Performing Arts with an exclusive live performance of the award-winning animated Netflix series\, BoJack Horseman.\n\n\nIn honor of our alumnus\, friend\, and benefactor\, Michael Eisner '64\, the Department of Theatre celebrates and inaugurates its new home in the Michael D. Eisner Center for the Performing Arts with BoJack Horseman\, a stage adaptation of the acclaimed and complex Netflix animated series\, produced by Michael Eisner Productions and the Tornante Company.  Created by Raphael Bob-Waksberg\, BoJack Horseman is regularly ranked among the very best shows on television. \n\n\n\nIan Crouch described the series as "a comedy about an anthropomorphic talking horse" who starred in a family sitcom in the eighties and nineties called 'Horsin' Around'... and now lives the dissipated life of a show-biz washout in Los Angeles." "BoJack\," he writes\, "is a silly show that is also deeply\, unshakably sad\," praised by critics "for the way it blends fast-paced absurdist comedy with unexpected depth" of character and purpose ("'BoJack Horseman' and the Comedy of Despair\," The New Yorker 8/14/2015). \n\nDenison's stage Bojack Horseman focuses on a moment of crisis between two old friends struggling to understand one another\, midway through the series' third season.  BoJack Horseman\, adapted from the episode "Best Thing That Ever Happened\," by Kate Purdy\, will be directed and adapted for the stage by Mark Evans Bryan '96\, Chair of the Department of Theatre. This is the first theatre production on the Sharon Martin Hall stage.\n\nThis production contains adult language and topics.
X-ALT-DESC;FMTTYPE=text/html:<p><span style="background-color:transparent\; color:rgb(0\, 0\, 0)\; font-family:arial\; font-size:11pt">The Denison University Department of Theatre celebrates its new home&nbsp\;</span><span style="background-color:transparent\; color:rgb(0\, 0\, 0)\; font-family:arial\; font-size:11pt">in the Michael D. Eisner Center for the Performing Arts with an exclusive live performance of the&nbsp\;</span><span style="background-color:transparent\; color:rgb(0\, 0\, 0)\; font-family:arial\; font-size:11pt">award-winning animated Netflix series\, BoJack Horseman.</span></p>\n\n<div>\n<p><span style="background-color:transparent\; color:rgb(0\, 0\, 0)\; font-family:arial\; font-size:11pt">In honor of our alumnus\, friend\, and benefactor\, Michael Eisner &rsquo\;64\, the Department of Theatre&nbsp\;</span><span style="background-color:transparent\; color:rgb(0\, 0\, 0)\; font-family:arial\; font-size:11pt">celebrates and inaugurates its new home in the Michael D. Eisner Center for the Performing&nbsp\;</span><span style="background-color:transparent\; color:rgb(0\, 0\, 0)\; font-family:arial\; font-size:11pt">Arts with BoJack Horseman\, a stage adaptation of the acclaimed and complex Netflix animated&nbsp\;</span><span style="background-color:transparent\; color:rgb(0\, 0\, 0)\; font-family:arial\; font-size:11pt">series\, produced by Michael Eisner Productions and the Tornante Company.&nbsp\; Created by&nbsp\;</span><span style="background-color:transparent\; color:rgb(0\, 0\, 0)\; font-family:arial\; font-size:11pt">Raphael Bob-Waksberg\, BoJack Horseman is regularly ranked among the very best shows on&nbsp\;</span><span style="background-color:transparent\; color:rgb(0\, 0\, 0)\; font-family:arial\; font-size:11pt">television.&nbsp\;</span><br />\n<br />\n<span style="background-color:transparent\; color:rgb(0\, 0\, 0)\; font-family:arial\; font-size:11pt">Ian Crouch described the series as &ldquo\;a comedy about an anthropomorphic talking horse&rdquo\; who&nbsp\;</span><span style="background-color:transparent\; color:rgb(0\, 0\, 0)\; font-family:arial\; font-size:11pt">starred in a family sitcom in the eighties and nineties called &lsquo\;Horsin&rsquo\; Around&rsquo\;... and now lives the&nbsp\;</span><span style="background-color:transparent\; color:rgb(0\, 0\, 0)\; font-family:arial\; font-size:11pt">dissipated life of a show-biz washout in Los Angeles.&rdquo\; &ldquo\;BoJack\,&rdquo\; he writes\, &ldquo\;is a silly show that is also deeply\, unshakably sad\,&rdquo\; praised by critics &ldquo\;for the way it blends fast-paced absurdist comedy with unexpected depth&rdquo\; of character and purpose (&ldquo\;&lsquo\;BoJack Horseman&rsquo\; and the Comedy of Despair\,&rdquo\; The New Yorker 8/14/2015).&nbsp\;</span></p>\n\n<p><span style="background-color:transparent\; color:rgb(0\, 0\, 0)\; font-family:arial\; font-size:11pt">Denison&rsquo\;s stage Bojack Horseman focuses on a moment of crisis between two old friends&nbsp\;</span><span style="background-color:transparent\; color:rgb(0\, 0\, 0)\; font-family:arial\; font-size:11pt">struggling to understand one another\, midway through the series&rsquo\; third season.&nbsp\; BoJack&nbsp\;</span><span style="background-color:transparent\; color:rgb(0\, 0\, 0)\; font-family:arial\; font-size:11pt">Horseman\, adapted from the episode &ldquo\;Best Thing That Ever Happened\,&rdquo\; by Kate Purdy\, will be&nbsp\;</span><span style="background-color:transparent\; color:rgb(0\, 0\, 0)\; font-family:arial\; font-size:11pt">directed and adapted for the stage by Mark Evans Bryan &rsquo\;96\, Chair of the Department of Theatre. This is the first theatre production on the Sharon Martin Hall stage.</span></p>\n\n<p><span style="background-color:transparent\; color:rgb(0\, 0\, 0)\; font-family:arial\; font-size:11pt">This production contains adult language and topics.</span></p>\n\n<div>&nbsp\;</div>\n</div>\n
LOCATION:Denison University Sharon Martin Hall of the Michael D. Eisner Center for the Performing Arts 240 West Broadway
UID:e.180.12906
SEQUENCE:3
DTSTAMP:20260422T131857Z
URL:http://business.granvilleoh.com/events/details/exclusive-live-performance-of-bojack-horseman-at-denison-university-10-16-2019-12906
END:VEVENT

END:VCALENDAR
