BEGIN:VCALENDAR
VERSION:2.0
PRODID:-//ChamberMaster//Event Calendar 2.0//EN
METHOD:PUBLISH
X-PUBLISHED-TTL:P3D
REFRESH-INTERVAL:P3D
CALSCALE:GREGORIAN
BEGIN:VEVENT
DTSTART:20191214T150000Z
DTEND:20191214T170000Z
X-MICROSOFT-CDO-ALLDAYEVENT:FALSE
SUMMARY:Fairy Tale Crossing Train Show
DESCRIPTION:Encounter gnomes\, fairies and perhaps even a big bad wolf! Familiar fables and fairytales weave their way through this year's 11th Annual Model Train Show. Explore over 20 train layouts and 11 scales of model trains. The Train Show opens on December 7th and continues with limited run times through December 14th.
X-ALT-DESC;FMTTYPE=text/html:Encounter gnomes\, fairies and perhaps even a big bad wolf! Familiar fables and fairytales weave their way through this year&rsquo\;s 11th Annual Model Train Show. Explore over 20 train layouts and 11 scales of model trains. The Train Show opens on December 7th and continues with limited run times through December 14th.
LOCATION:Granville Public Library
UID:e.180.13985
SEQUENCE:3
DTSTAMP:20260422T161002Z
URL:http://business.granvilleoh.com/events/details/fairy-tale-crossing-train-show-12-14-2019-13985
END:VEVENT

END:VCALENDAR
