BEGIN:VCALENDAR
VERSION:2.0
PRODID:-//ChamberMaster//Event Calendar 2.0//EN
METHOD:PUBLISH
X-PUBLISHED-TTL:P3D
REFRESH-INTERVAL:P3D
CALSCALE:GREGORIAN
BEGIN:VEVENT
DTSTART:20191207T180000Z
DTEND:20191208T020000Z
X-MICROSOFT-CDO-ALLDAYEVENT:FALSE
SUMMARY:Fairy Tale Crossing Train Show
DESCRIPTION:Encounter gnomes\, fairies and perhaps even a big bad wolf! Familiar fables and fairytales weave their way through this year's 11th Annual Model Train Show. Explore over 20 train layouts and 11 scales of model trains. The Train Show opens on December 7th and continues with limited run times through December 14th. Special Opening Day Events on December 7th include craft stations for kids and musical entertainment from Granville High School music ensembles 2-4pm\, and a free photobooth with photographer Liz Argyle sponsored by the Licking County Foundation from 4-7:00 pm. And don't forget this is the one magical day of the year when visitors can enter through the library's front doors. Kids can pick up a seek-and-find check sheet to look for fairytale characters hidden on all three floors of the library as they explore the train show. The Train Show is made possible through the generous support of local business sponsors and the Friends of the Granville Public Library THANK YOU!
X-ALT-DESC;FMTTYPE=text/html:Encounter gnomes\, fairies and perhaps even a big bad wolf! Familiar fables and fairytales weave their way through this year&rsquo\;s 11th Annual Model Train Show. Explore over 20 train layouts and 11 scales of model trains. The Train Show opens on December 7th and continues with limited run times through December 14th. Special Opening Day Events on December 7th include craft stations for kids and musical entertainment from Granville High School music ensembles 2-4pm\, and a free photobooth with photographer Liz Argyle sponsored by the Licking County Foundation from 4-7:00 pm. And don&rsquo\;t forget&mdash\;this is the one magical day of the year when visitors can enter through the library&rsquo\;s front doors. Kids can pick up a seek-and-find check sheet to look for fairytale characters hidden on all three floors of the library as they explore the train show. The Train Show is made possible through the generous support of local business sponsors and the Friends of the Granville Public Library&mdash\;THANK YOU!
LOCATION:Granville Public Library
UID:e.180.13981
SEQUENCE:3
DTSTAMP:20260422T160818Z
URL:http://business.granvilleoh.com/events/details/fairy-tale-crossing-train-show-13981
END:VEVENT

END:VCALENDAR
