BEGIN:VCALENDAR
VERSION:2.0
PRODID:-//ChamberMaster//Event Calendar 2.0//EN
METHOD:PUBLISH
X-PUBLISHED-TTL:P3D
REFRESH-INTERVAL:P3D
CALSCALE:GREGORIAN
BEGIN:VEVENT
DTSTART:20191010T223000Z
DTEND:20191011T003000Z
X-MICROSOFT-CDO-ALLDAYEVENT:FALSE
SUMMARY:Fall Felting with Megan Henderson Fiber Arts
DESCRIPTION:Come and try your hand at needle felting and create an adorable pumpkin just in time for fall. All materials and supplies will be included. Adults only. Register at granvillelibrary.org/calendar. Space is limited.
X-ALT-DESC;FMTTYPE=text/html:Come and try your hand at needle felting and create an adorable pumpkin just in time for fall. All materials and supplies will be included. Adults only. Register at granvillelibrary.org/calendar. Space is limited.
LOCATION:Granville Public Library
UID:e.180.12847
SEQUENCE:3
DTSTAMP:20260422T131830Z
URL:http://business.granvilleoh.com/events/details/fall-felting-with-megan-henderson-fiber-arts-12847
END:VEVENT

END:VCALENDAR
