BEGIN:VCALENDAR
VERSION:2.0
PRODID:-//ChamberMaster//Event Calendar 2.0//EN
METHOD:PUBLISH
X-PUBLISHED-TTL:P3D
REFRESH-INTERVAL:P3D
CALSCALE:GREGORIAN
BEGIN:VEVENT
DTSTART:20190111T223000Z
DTEND:20190112T000000Z
X-MICROSOFT-CDO-ALLDAYEVENT:FALSE
SUMMARY:Family Fort Night
DESCRIPTION:Families gather to build blanket forts in the Children's Department. Bring your own blankets\, pillows\, and flashlights for this after-hours program. For families with kids of all ages. (You must be in the building by the time the library closes at 6pm)
X-ALT-DESC;FMTTYPE=text/html:Families gather to build blanket forts in the Children&#39\;s Department. Bring your own blankets\, pillows\, and flashlights for this after-hours program. For families with kids of all ages. (You must be in the building by the time the library closes at 6pm)
LOCATION:Granville Public Library
UID:e.180.12286
SEQUENCE:3
DTSTAMP:20260420T023134Z
URL:http://business.granvilleoh.com/events/details/family-fort-night-01-11-2019-12286
END:VEVENT

END:VCALENDAR
