BEGIN:VCALENDAR
VERSION:2.0
PRODID:-//ChamberMaster//Event Calendar 2.0//EN
METHOD:PUBLISH
X-PUBLISHED-TTL:P3D
REFRESH-INTERVAL:P3D
CALSCALE:GREGORIAN
BEGIN:VEVENT
DTSTART:20181201T180000Z
DTEND:20181202T020000Z
X-MICROSOFT-CDO-ALLDAYEVENT:FALSE
SUMMARY:Fantastic Jurassic Train Show
DESCRIPTION:Visit the library to enjoy our 10th Annual Model Train Show. Pick up a dinosaur seek and find to search for dinosaurs hidden throughout the show. Be sure to stop by the upper level for entertainment! From 1-4pm enjoy magician Rory Rennick and from 4-7pm Argyle Photography will be on hand to provide you a group photo!
X-ALT-DESC;FMTTYPE=text/html:Visit the library to enjoy our 10th Annual Model Train Show. Pick up a dinosaur seek and find to search for dinosaurs hidden throughout the show. Be sure to stop by the upper level for entertainment! From 1-4pm enjoy magician Rory Rennick and from 4-7pm Argyle Photography will be on hand to provide you a group photo!
LOCATION:Granville Public Library
UID:e.180.12256
SEQUENCE:3
DTSTAMP:20260419T233606Z
URL:http://business.granvilleoh.com/events/details/fantastic-jurassic-train-show-12256
END:VEVENT

END:VCALENDAR
