BEGIN:VCALENDAR
VERSION:2.0
PRODID:-//ChamberMaster//Event Calendar 2.0//EN
METHOD:PUBLISH
X-PUBLISHED-TTL:P3D
REFRESH-INTERVAL:P3D
CALSCALE:GREGORIAN
BEGIN:VEVENT
DTSTART:20180630T213000Z
DTEND:20180701T010000Z
X-MICROSOFT-CDO-ALLDAYEVENT:FALSE
SUMMARY:Farm Fair! benefitting Canal Market District
DESCRIPTION:Join us at the Canal Market District in downtown Newark on Saturday\, June 30 for a Farm Fair! The event will feature games\, food\, and live music from the Wayfarers. Tickets are $10. More information can be found at: http://www.canalmarketdistrict.org/farmfair
X-ALT-DESC;FMTTYPE=text/html:Join us at the Canal Market District in downtown Newark on Saturday\, June 30 for a Farm Fair! The event will feature games\, food\, and live music from the Wayfarers. Tickets are $10. More information can be found at:&nbsp\;<a href="http://www.canalmarketdistrict.org/farmfair">http://www.canalmarketdistrict.org/farmfair</a>
LOCATION:Canal Market District 24 East Canal Street Newark\, OH 43055
UID:e.180.12051
SEQUENCE:3
DTSTAMP:20260419T153528Z
URL:http://business.granvilleoh.com/events/details/farm-fair-benefitting-canal-market-district-12051
END:VEVENT

END:VCALENDAR
