BEGIN:VCALENDAR
VERSION:2.0
PRODID:-//ChamberMaster//Event Calendar 2.0//EN
METHOD:PUBLISH
X-PUBLISHED-TTL:P3D
REFRESH-INTERVAL:P3D
CALSCALE:GREGORIAN
BEGIN:VEVENT
DTSTART:20190207T000000Z
DTEND:20190207T010000Z
X-MICROSOFT-CDO-ALLDAYEVENT:FALSE
SUMMARY:Faye Driscoll presents ‘Thank You For Coming’
DESCRIPTION:Denison University's Department of Dance welcomes award winning choreographer\, Faye Driscoll for an informal showing of her trilogy "Thank You For Coming."  \n\n\n\nDriscoll's work encompasses performance\, installation and audience interaction.
X-ALT-DESC;FMTTYPE=text/html:<p><span style="font-size:12px">Denison University&rsquo\;s Department of Dance welcomes award winning choreographer\, Faye Driscoll for <span style="font-family:arial\,helvetica\,sans-serif"><span style="background-color:transparent">an informal showing of her trilogy &ldquo\;Thank You For Coming.&rdquo\; &nbsp\;</span></span><br />\n<br />\nDriscoll&rsquo\;s work encompasses performance\, installation and audience interaction.</span></p>\n
LOCATION:Denison University Doane Dance Performance Space 231 West College Street
UID:e.180.12411
SEQUENCE:3
DTSTAMP:20260420T022851Z
URL:http://business.granvilleoh.com/events/details/faye-driscoll-presents-thank-you-for-coming-12411
END:VEVENT

END:VCALENDAR
