BEGIN:VCALENDAR
VERSION:2.0
PRODID:-//ChamberMaster//Event Calendar 2.0//EN
METHOD:PUBLISH
X-PUBLISHED-TTL:P3D
REFRESH-INTERVAL:P3D
CALSCALE:GREGORIAN
BEGIN:VEVENT
DTSTART:20181011T230000Z
DTEND:20181012T000000Z
X-MICROSOFT-CDO-ALLDAYEVENT:FALSE
SUMMARY:Fearless Fermenting: Cukes & Kraut
DESCRIPTION:Learn the basics of fermenting foods. Participants will try their hand at making their own pickles or sauerkraut to bring home. It's easy! Supplies provided.
X-ALT-DESC;FMTTYPE=text/html:Learn the basics of fermenting foods. Participants will try their hand at making their own pickles or sauerkraut to bring home. It&#39\;s easy! Supplies provided.
LOCATION:Granville Public Library
UID:e.180.12133
SEQUENCE:3
DTSTAMP:20260419T210210Z
URL:http://business.granvilleoh.com/events/details/fearless-fermenting-cukes-kraut-12133
END:VEVENT

END:VCALENDAR
