BEGIN:VCALENDAR
VERSION:2.0
PRODID:-//ChamberMaster//Event Calendar 2.0//EN
METHOD:PUBLISH
X-PUBLISHED-TTL:P3D
REFRESH-INTERVAL:P3D
CALSCALE:GREGORIAN
BEGIN:VEVENT
DTSTART:20191028T230000Z
DTEND:20191029T011500Z
X-MICROSOFT-CDO-ALLDAYEVENT:FALSE
SUMMARY:Film Screening and Q&A: 'Crime After Crime'
DESCRIPTION:Denison University presents a film screening of the documentary "Crime After Crime" followed by a Q&A led by attorney Joshua Safran.\nDirected by Yoav Potas "Crime After Crime" is an award-winning "must-see" (Los Angeles Times) documentary about the case of Deborah Peagler\, an incarcerated victim of domestic violence whose case was taken up by pro bono attorneys Safran and Nadia Costa. This film is being shown as part of National Domestic Violence Awareness Month.\n\nThe event is sponsored by Women's and Gender Studies\, The Laura C. Harris Series\, and the Denison Coalition for Sexual Respect.
X-ALT-DESC;FMTTYPE=text/html:<span style="background-color:transparent\; color:rgb(0\, 0\, 0)\; font-family:arial\; font-size:11pt">Denison University presents a film screening of the documentary &quot\;Crime After Crime&quot\; followed by a Q&amp\;A led by attorney Joshua Safran.</span>\n<p><span style="background-color:transparent\; color:rgb(0\, 0\, 0)\; font-family:arial\; font-size:11pt">Directed by Yoav Potas &quot\;Crime After Crime&quot\; is an award-winning &quot\;must-see&quot\; (Los Angeles Times) documentary about the case of Deborah Peagler\, an incarcerated victim of domestic violence whose case was taken up by pro bono attorneys Safran and Nadia Costa. This film is being shown as part of National Domestic Violence Awareness Month.</span></p>\n\n<p><span style="background-color:transparent\; color:rgb(0\, 0\, 0)\; font-family:arial\; font-size:11pt">The event is sponsored by Women&rsquo\;s and Gender Studies\, The Laura C. Harris Series\, and the Denison Coalition for Sexual Respect.</span></p>\n\n<div>&nbsp\;</div>\n
LOCATION:Denison University Auditorium of Denison University's Slayter Hall 200 Ridge Road
UID:e.180.13931
SEQUENCE:3
DTSTAMP:20260422T132622Z
URL:http://business.granvilleoh.com/events/details/film-screening-and-q-a-crime-after-crime-13931
END:VEVENT

END:VCALENDAR
