BEGIN:VCALENDAR
VERSION:2.0
PRODID:-//ChamberMaster//Event Calendar 2.0//EN
METHOD:PUBLISH
X-PUBLISHED-TTL:P3D
REFRESH-INTERVAL:P3D
CALSCALE:GREGORIAN
BEGIN:VEVENT
DTSTART:20190311T230000Z
DTEND:20190312T010000Z
X-MICROSOFT-CDO-ALLDAYEVENT:FALSE
SUMMARY:Film screening of 'Invisible Chess'
DESCRIPTION:Denison University's Center for Black Studies presents a film screening of "Invisible Chess: The Jason Goudlock Story." \n\n"Invisible Chess: The Jason Goudlock Story" explores the agonizingly unjust discrepancy between "old-law" and "new-law" prison sentencing guidelines in Ohio's criminal justice system.\n\n?The filmmakers\, Emeritus Denison Professor William Nichols and writer/director Samuel Crow\, will lead a discussion immediately following the screening.
X-ALT-DESC;FMTTYPE=text/html:<p><span style="font-family:arial\; font-size:11pt">Denison University&rsquo\;s Center for Black Studies presents a film screening of &quot\;Invisible Chess: The Jason Goudlock Story.&rdquo\; </span></p>\n\n<p><span style="font-family:arial\; font-size:11pt">&quot\;Invisible Chess: The Jason Goudlock Story&rdquo\; explores the agonizingly unjust discrepancy between &ldquo\;old-law&rdquo\; and &ldquo\;new-law&rdquo\; prison sentencing guidelines in Ohio&rsquo\;s criminal justice system.</span></p>\n\n<p><span style="color:rgb(34\, 34\, 34)\; font-family:arial\; font-size:11pt">?</span><span style="color:rgb(34\, 34\, 34)\; font-family:arial\; font-size:11pt">The filmmakers\, Emeritus Denison Professor William Nichols and writer/director Samuel Crow\, will lead a discussion immediately following the screening.</span></p>\n\n<div>&nbsp\;</div>\n
LOCATION:Denison University Burton D. Morgan Center\, Room 115 150 Ridge Road
UID:e.180.12478
SEQUENCE:3
DTSTAMP:20260420T035725Z
URL:http://business.granvilleoh.com/events/details/film-screening-of-invisible-chess-12478
END:VEVENT

END:VCALENDAR
