BEGIN:VCALENDAR
VERSION:2.0
PRODID:-//ChamberMaster//Event Calendar 2.0//EN
METHOD:PUBLISH
X-PUBLISHED-TTL:P3D
REFRESH-INTERVAL:P3D
CALSCALE:GREGORIAN
BEGIN:VEVENT
DTSTART:20190410T230000Z
DTEND:20190411T003000Z
X-MICROSOFT-CDO-ALLDAYEVENT:FALSE
SUMMARY:Film screening of 'Warrior Women'
DESCRIPTION:Denison University's Department of Women and Gender Studies\, Laura C. Harris Fund\, and Center for Black Studies presents a film screening of "Warrior Women."\n"Warrior Women" is the story of mothers and daughters fighting for indigenous rights in the American Indian Movement of the 1970s. The film unveils a female perspective of history and examines the impact political struggles have on the children who bear witness. Film Director Beth Castle and Madonna Thunder Hawk will lead a film discussion afterward via Skype.
X-ALT-DESC;FMTTYPE=text/html:<span style="background-color:transparent\; color:rgb(0\, 0\, 0)\; font-family:arial\; font-size:11pt">Denison University&rsquo\;s Department of Women and Gender Studies</span><span style="color:rgb(0\, 0\, 0)\; font-family:arial\; font-size:11pt">\, Laura C. Harris Fund\, and Center for Black Studies </span><span style="background-color:transparent\; color:rgb(0\, 0\, 0)\; font-family:arial\; font-size:11pt">presents a film screening of &ldquo\;Warrior Women.&rdquo\;</span>\n<p><span style="background-color:transparent\; color:rgb(32\, 33\, 36)\; font-family:arial\; font-size:11pt">&ldquo\;Warrior Women&rdquo\; is</span><span style="background-color:transparent\; color:rgb(0\, 0\, 0)\; font-family:arial\; font-size:11pt"> the story of mothers and daughters fighting for indigenous rights in the American Indian Movement of the 1970s. The film unveils a female perspective of history and examines the impact political struggles have on the children who bear witness. Film Director Beth Castle and Madonna Thunder Hawk will lead a film discussion afterward via Skype.</span></p>\n\n<div>&nbsp\;</div>\n
LOCATION:Denison University Auditorium of Slayter Hall 200 Ridge Road
UID:e.180.12579
SEQUENCE:3
DTSTAMP:20260420T051210Z
URL:http://business.granvilleoh.com/events/details/film-screening-of-warrior-women-12579
END:VEVENT

END:VCALENDAR
