BEGIN:VCALENDAR
VERSION:2.0
PRODID:-//ChamberMaster//Event Calendar 2.0//EN
METHOD:PUBLISH
X-PUBLISHED-TTL:P3D
REFRESH-INTERVAL:P3D
CALSCALE:GREGORIAN
BEGIN:VEVENT
DTSTART:20180613T223000Z
DTEND:20180613T230000Z
X-MICROSOFT-CDO-ALLDAYEVENT:FALSE
SUMMARY:Fireflies at Twilight
DESCRIPTION:Bedtime songs\, rhymes\, and stories for preschoolers. Pajamas welcome. 3 to 5 years old
X-ALT-DESC;FMTTYPE=text/html:Bedtime songs\, rhymes\, and stories for preschoolers. Pajamas welcome. 3 to 5 years old
LOCATION:Granville Public Library
UID:e.180.11997
SEQUENCE:3
DTSTAMP:20260419T153046Z
URL:http://business.granvilleoh.com/events/details/fireflies-at-twilight-06-13-2018-11997
END:VEVENT

END:VCALENDAR
