BEGIN:VCALENDAR
VERSION:2.0
PRODID:-//ChamberMaster//Event Calendar 2.0//EN
METHOD:PUBLISH
X-PUBLISHED-TTL:P3D
REFRESH-INTERVAL:P3D
CALSCALE:GREGORIAN
BEGIN:VEVENT
DTSTART:20190503T213000Z
DTEND:20190503T230000Z
X-MICROSOFT-CDO-ALLDAYEVENT:FALSE
SUMMARY:First Friday: A Clue Murder Mystery
DESCRIPTION:Can you deduce who the victim was\, where the murder took place\, and what the weapon was? Search the library for clues\, collaborate with other players and solve the mystery. Current 6th graders through 12th grade are welcome!
X-ALT-DESC;FMTTYPE=text/html:Can you deduce who the victim was\, where the murder took place\, and what the weapon was? Search the library for clues\, collaborate with other players and solve the mystery. Current 6th graders through 12th grade are welcome!
LOCATION:Granville Public Library
UID:e.180.12570
SEQUENCE:3
DTSTAMP:20260420T063511Z
URL:http://business.granvilleoh.com/events/details/first-friday-a-clue-murder-mystery-12570
END:VEVENT

END:VCALENDAR
