BEGIN:VCALENDAR
VERSION:2.0
PRODID:-//ChamberMaster//Event Calendar 2.0//EN
METHOD:PUBLISH
X-PUBLISHED-TTL:P3D
REFRESH-INTERVAL:P3D
CALSCALE:GREGORIAN
BEGIN:VEVENT
DTSTART:20181207T223000Z
DTEND:20181208T000000Z
X-MICROSOFT-CDO-ALLDAYEVENT:FALSE
SUMMARY:First Friday: Clued-in Murder Mystery
DESCRIPTION:Who murdered head baker Georgie Gingerbread and stole the magic hat that brought him to life? Was it Candy Jane with a snow globe in the toy shop or was it Jolly Jeff with a freeze gun on the Polar Express? In this game of Clue\, you're the detective. For grades 7-12.
X-ALT-DESC;FMTTYPE=text/html:Who murdered head baker Georgie Gingerbread and stole the magic hat that brought him to life? Was it Candy Jane with a snow globe in the toy shop or was it Jolly Jeff with a freeze gun on the Polar Express? In this game of Clue\, you&#39\;re the detective. For grades 7-12.
LOCATION:Granville Public Library
UID:e.180.12255
SEQUENCE:3
DTSTAMP:20260420T010924Z
URL:http://business.granvilleoh.com/events/details/first-friday-clued-in-murder-mystery-12255
END:VEVENT

END:VCALENDAR
