BEGIN:VCALENDAR
VERSION:2.0
PRODID:-//ChamberMaster//Event Calendar 2.0//EN
METHOD:PUBLISH
X-PUBLISHED-TTL:P3D
REFRESH-INTERVAL:P3D
CALSCALE:GREGORIAN
BEGIN:VEVENT
DTSTART:20191004T213000Z
DTEND:20191004T230000Z
X-MICROSOFT-CDO-ALLDAYEVENT:FALSE
SUMMARY:First Friday: Nail-biting Bingo
DESCRIPTION:Trick? Or treat? Players will each get one TRICK card and one TREAT card. The card that gets the BINGO determines prize. Will you win something awesome\, like books or gift cards\, or awful\, like a can of Spam? Exclusively for teens in grades 7-12.
X-ALT-DESC;FMTTYPE=text/html:Trick? Or treat? Players will each get one TRICK card and one TREAT card. The card that gets the BINGO determines prize. Will you win something awesome\, like books or gift cards\, or awful\, like a can of Spam? Exclusively for teens in grades 7-12.
LOCATION:Granville Public Library
UID:e.180.12829
SEQUENCE:3
DTSTAMP:20260422T131313Z
URL:http://business.granvilleoh.com/events/details/first-friday-nail-biting-bingo-10-04-2019-12829
END:VEVENT

END:VCALENDAR
