BEGIN:VCALENDAR
VERSION:2.0
PRODID:-//ChamberMaster//Event Calendar 2.0//EN
METHOD:PUBLISH
X-PUBLISHED-TTL:P3D
REFRESH-INTERVAL:P3D
CALSCALE:GREGORIAN
BEGIN:VEVENT
DTSTART:20181005T213000Z
DTEND:20181005T230000Z
X-MICROSOFT-CDO-ALLDAYEVENT:FALSE
SUMMARY:First Friday: Nail Biting Bingo
DESCRIPTION:Trick? or treat? Players will each get one TRICK card and one TREAT card. Whatever card fills first gets the BINGO. Will you win something awesome\, like gift cards or books\, or awful like a yodeling pickle? Exclusively for grades 7-12.
X-ALT-DESC;FMTTYPE=text/html:Trick? or treat? Players will each get one TRICK card and one TREAT card. Whatever card fills first gets the BINGO. Will you win something awesome\, like gift cards or books\, or awful like a yodeling pickle? Exclusively for grades 7-12.
LOCATION:Granville Public Library
UID:e.180.12130
SEQUENCE:3
DTSTAMP:20260419T210125Z
URL:http://business.granvilleoh.com/events/details/first-friday-nail-biting-bingo-12130
END:VEVENT

END:VCALENDAR
