BEGIN:VCALENDAR
VERSION:2.0
PRODID:-//ChamberMaster//Event Calendar 2.0//EN
METHOD:PUBLISH
X-PUBLISHED-TTL:P3D
REFRESH-INTERVAL:P3D
CALSCALE:GREGORIAN
BEGIN:VEVENT
DTSTART:20190104T223000Z
DTEND:20190105T000000Z
X-MICROSOFT-CDO-ALLDAYEVENT:FALSE
SUMMARY:First Fridays: Chocolate Challenge
DESCRIPTION:Victory has never been so sweet! Join us for chocolate themed games and challenges. For grades 7-12.
X-ALT-DESC;FMTTYPE=text/html:Victory has never been so sweet! Join us for chocolate themed games and challenges. For grades 7-12.
LOCATION:Granville Public Library
UID:e.180.12279
SEQUENCE:3
DTSTAMP:20260420T010115Z
URL:http://business.granvilleoh.com/events/details/first-fridays-chocolate-challenge-12279
END:VEVENT

END:VCALENDAR
