BEGIN:VCALENDAR
VERSION:2.0
PRODID:-//ChamberMaster//Event Calendar 2.0//EN
METHOD:PUBLISH
X-PUBLISHED-TTL:P3D
REFRESH-INTERVAL:P3D
CALSCALE:GREGORIAN
BEGIN:VEVENT
DTSTART:20190201T223000Z
DTEND:20190202T000000Z
X-MICROSOFT-CDO-ALLDAYEVENT:FALSE
SUMMARY:First Fridays:Easy to Master Magic with Rory Rennick
DESCRIPTION:Teens - Join Magician Rory Rennick to learn some slight of hand at February's First Friday program! Exclusive for Grades 7-12.
X-ALT-DESC;FMTTYPE=text/html:Teens - Join Magician Rory Rennick to learn some slight of hand at February&#39\;s First Friday program! Exclusive for Grades 7-12.
LOCATION:Granville Public Library
UID:e.180.12309
SEQUENCE:3
DTSTAMP:20260420T022624Z
URL:http://business.granvilleoh.com/events/details/first-fridays-easy-to-master-magic-with-rory-rennick-12309
END:VEVENT

END:VCALENDAR
