BEGIN:VCALENDAR
VERSION:2.0
PRODID:-//ChamberMaster//Event Calendar 2.0//EN
METHOD:PUBLISH
X-PUBLISHED-TTL:P3D
REFRESH-INTERVAL:P3D
CALSCALE:GREGORIAN
BEGIN:VEVENT
DTSTART:20190405T213000Z
DTEND:20190405T230000Z
X-MICROSOFT-CDO-ALLDAYEVENT:FALSE
SUMMARY:First Fridays: Eggs-cellent Adventure
DESCRIPTION:Get crackin'! Teams race to hunt for plastic eggs hidden around the library. Each egg contains puzzle pieces for your team to assemble. Find them all and put your puzzle together first to win! For teens in 7-12 grade
X-ALT-DESC;FMTTYPE=text/html:Get crackin&#39\;! Teams race to hunt for plastic eggs hidden around the library. Each egg contains puzzle pieces for your team to assemble. Find them all and put your puzzle together first to win! For teens in 7-12 grade
LOCATION:Granville Public Library
UID:e.180.12545
SEQUENCE:3
DTSTAMP:20260420T050703Z
URL:http://business.granvilleoh.com/events/details/first-fridays-eggs-cellent-adventure-12545
END:VEVENT

END:VCALENDAR
