BEGIN:VCALENDAR
VERSION:2.0
PRODID:-//ChamberMaster//Event Calendar 2.0//EN
METHOD:PUBLISH
X-PUBLISHED-TTL:P3D
REFRESH-INTERVAL:P3D
CALSCALE:GREGORIAN
BEGIN:VEVENT
DTSTART:20191101T213000Z
DTEND:20191101T230000Z
X-MICROSOFT-CDO-ALLDAYEVENT:FALSE
SUMMARY:First Fridays: Fall Food Fun
DESCRIPTION:Teens\, we're cooking up some creative treats. Try your hand at these seasonally inspired goodies and get ready to be the big enchilada at your Thanksgiving dinner. Exclusively for grades 7-12.
X-ALT-DESC;FMTTYPE=text/html:Teens\, we&#39\;re cooking up some creative treats. Try your hand at these seasonally inspired goodies and get ready to be the big enchilada at your Thanksgiving dinner. Exclusively for grades 7-12.
LOCATION:Granville Public Library
UID:e.180.12916
SEQUENCE:3
DTSTAMP:20260422T144250Z
URL:http://business.granvilleoh.com/events/details/first-fridays-fall-food-fun-12916
END:VEVENT

END:VCALENDAR
