BEGIN:VCALENDAR
VERSION:2.0
PRODID:-//ChamberMaster//Event Calendar 2.0//EN
METHOD:PUBLISH
X-PUBLISHED-TTL:P3D
REFRESH-INTERVAL:P3D
CALSCALE:GREGORIAN
BEGIN:VEVENT
DTSTART:20180504T213000Z
DTEND:20180504T230000Z
X-MICROSOFT-CDO-ALLDAYEVENT:FALSE
SUMMARY:First Fridays: Fandoms and Forces
DESCRIPTION:First Fridays: Fandoms and Forces happens on May 4th. First Friday programs are exclusive for 7-12 Graders\, however current 6th Graders are invited to join us for this special edition for an evening of pop culture trivia and games! May the 4th be with you.
X-ALT-DESC;FMTTYPE=text/html:First Fridays: Fandoms and Forces happens on May 4th. First Friday programs are exclusive for 7-12 Graders\, however current 6th Graders are invited to join us for this special edition for an evening of pop culture trivia and games! May the 4th be with you.
LOCATION:Granville Public Library
UID:e.180.11868
SEQUENCE:3
DTSTAMP:20260421T100915Z
URL:http://business.granvilleoh.com/events/details/first-fridays-fandoms-and-forces-11868
END:VEVENT

END:VCALENDAR
