BEGIN:VCALENDAR
VERSION:2.0
PRODID:-//ChamberMaster//Event Calendar 2.0//EN
METHOD:PUBLISH
X-PUBLISHED-TTL:P3D
REFRESH-INTERVAL:P3D
CALSCALE:GREGORIAN
BEGIN:VEVENT
DTSTART:20190906T213000Z
DTEND:20190906T230000Z
X-MICROSOFT-CDO-ALLDAYEVENT:FALSE
SUMMARY:First Fridays: Old Colony Burying Ground Scavenger Hunt
DESCRIPTION:Teens\, we'll meet at the library and walk down to the cemetery where teams will investigate the grounds to find answers to our scavenger hunt. Plan to tread lightly and respectfully on this hallowed ground. For grades 7-12
X-ALT-DESC;FMTTYPE=text/html:Teens\, we&#39\;ll meet at the library and walk down to the cemetery where teams will investigate the grounds to find answers to our scavenger hunt. Plan to tread lightly and respectfully on this hallowed ground. For grades 7-12
LOCATION:Granville Public Library
UID:e.180.12792
SEQUENCE:3
DTSTAMP:20260422T115744Z
URL:http://business.granvilleoh.com/events/details/first-fridays-old-colony-burying-ground-scavenger-hunt-09-06-2019-12792
END:VEVENT

END:VCALENDAR
