BEGIN:VCALENDAR
VERSION:2.0
PRODID:-//ChamberMaster//Event Calendar 2.0//EN
METHOD:PUBLISH
X-PUBLISHED-TTL:P3D
REFRESH-INTERVAL:P3D
CALSCALE:GREGORIAN
BEGIN:VEVENT
DTSTART:20180907T213000Z
DTEND:20180907T230000Z
X-MICROSOFT-CDO-ALLDAYEVENT:FALSE
SUMMARY:First Fridays: Waffle It!
DESCRIPTION:We're celebrating National Waffle week because...well...we can! We'll be experimenting to see what works- and what doesn't- when you try cooking it in a waffle iron. We'll also have waffle themed games and contests. For grades 7-12.
X-ALT-DESC;FMTTYPE=text/html:We&#39\;re celebrating National Waffle week because...well...we can! We&#39\;ll be experimenting to see what works- and what doesn&#39\;t- when you try cooking it in a waffle iron. We&#39\;ll also have waffle themed games and contests. For grades 7-12.
LOCATION:Granville Public Library
UID:e.180.12105
SEQUENCE:3
DTSTAMP:20260419T193232Z
URL:http://business.granvilleoh.com/events/details/first-fridays-waffle-it-12105
END:VEVENT

END:VCALENDAR
