BEGIN:VCALENDAR
VERSION:2.0
PRODID:-//ChamberMaster//Event Calendar 2.0//EN
METHOD:PUBLISH
X-PUBLISHED-TTL:P3D
REFRESH-INTERVAL:P3D
CALSCALE:GREGORIAN
BEGIN:VEVENT
DTSTART:20190607T220000Z
DTEND:20190608T000000Z
X-MICROSOFT-CDO-ALLDAYEVENT:FALSE
SUMMARY:Flying Saucers: Learn to Play Ultimate Frisbee
DESCRIPTION:Learn to play Ultimate Frisbee with GHS student phenoms at Wildwood Park. Please bring both a dark and light shirt. A parental consent form is required for participation and can be picked up at the Reference Desk. For rising 7th-12th grade.
X-ALT-DESC;FMTTYPE=text/html:Learn to play Ultimate Frisbee with GHS student phenoms at Wildwood Park. Please bring both a dark and light shirt. A parental consent form is required for participation and can be picked up at the Reference Desk. For rising 7th-12th grade.
LOCATION:Wildwood Park
UID:e.180.12650
SEQUENCE:3
DTSTAMP:20260420T082129Z
URL:http://business.granvilleoh.com/events/details/flying-saucers-learn-to-play-ultimate-frisbee-12650
END:VEVENT

END:VCALENDAR
