BEGIN:VCALENDAR
VERSION:2.0
PRODID:-//ChamberMaster//Event Calendar 2.0//EN
METHOD:PUBLISH
X-PUBLISHED-TTL:P3D
REFRESH-INTERVAL:P3D
CALSCALE:GREGORIAN
BEGIN:VEVENT
DTSTART:20190504T140000Z
DTEND:20190504T160000Z
X-MICROSOFT-CDO-ALLDAYEVENT:FALSE
SUMMARY:Free Comic Book Day: A TYSO Week Event
DESCRIPTION:Join our friends from Comic Shop Plus to pick up your free comic book! Titles include things like Stranger Things\, Avengers\, Star Wars\, Doctor Who\, Pokemon\, Riverdale\, Justice League\, Minecraft and more. While supplies last.
X-ALT-DESC;FMTTYPE=text/html:Join our friends from Comic Shop Plus to pick up your free comic book! Titles include things like Stranger Things\, Avengers\, Star Wars\, Doctor Who\, Pokemon\, Riverdale\, Justice League\, Minecraft and more. While supplies last.
LOCATION:Granville Public Library
UID:e.180.12571
SEQUENCE:3
DTSTAMP:20260420T064234Z
URL:http://business.granvilleoh.com/events/details/free-comic-book-day-a-tyso-week-event-12571
END:VEVENT

END:VCALENDAR
