BEGIN:VCALENDAR
VERSION:2.0
PRODID:-//ChamberMaster//Event Calendar 2.0//EN
METHOD:PUBLISH
X-PUBLISHED-TTL:P3D
REFRESH-INTERVAL:P3D
CALSCALE:GREGORIAN
BEGIN:VEVENT
DTSTART:20190418T203000Z
DTEND:20190418T213000Z
X-MICROSOFT-CDO-ALLDAYEVENT:FALSE
SUMMARY:'From An English Major to A Software Engineer' by Sara Simon
DESCRIPTION:Denison University welcomes Sara Simon from the New York Times presenting "From An English Major to A Software Engineer."\nSimon is a software engineer on the Interactive News Technologies team at the New York Times\, where her work focuses on tools for research and news gathering. She's also dabbled in data reporting at the Times\, lending a hand to stories that span homicide convictions to abortion restrictions to the Miss America pageant. Simon studied English at Wellesley College before heading to the non-profit Turing School of Software and Design. She came to the Times from Vermont Public Radio\, where she was a web developer.
X-ALT-DESC;FMTTYPE=text/html:<span style="background-color:transparent\; color:rgb(0\, 0\, 0)\; font-family:arial\; font-size:11pt">Denison University welcomes Sara Simon from the New York Times presenting &quot\;From An English Major to A Software Engineer.&quot\;</span>\n<p><span style="background-color:transparent\; color:rgb(0\, 0\, 0)\; font-family:arial\; font-size:11pt">Simon is a software engineer on the Interactive News Technologies team at the New York Times\, where her work focuses on tools for research and news gathering. She&rsquo\;s also dabbled in data reporting at the Times\, lending a hand to stories that span homicide convictions to abortion restrictions to the Miss America pageant. Simon studied English at Wellesley College before heading to the non-profit Turing School of Software and Design. She came to the Times from Vermont Public Radio\, where she was a web developer.</span></p>\n\n<div>&nbsp\;</div>\n
LOCATION:Denison University Room 114 of the F.W. Olin Science Hall 100 Sunset Hill
UID:e.180.12614
SEQUENCE:3
DTSTAMP:20260420T062647Z
URL:http://business.granvilleoh.com/events/details/from-an-english-major-to-a-software-engineer-by-sara-simon-12614
END:VEVENT

END:VCALENDAR
